BEGIN:VCALENDAR
VERSION:2.0
PRODID:-//Aktion Theaterfoyer e.V. - ECPv6.15.20//NONSGML v1.0//EN
CALSCALE:GREGORIAN
METHOD:PUBLISH
X-WR-CALNAME:Aktion Theaterfoyer e.V.
X-ORIGINAL-URL:https://theaterfoyer-darmstadt.de
X-WR-CALDESC:Veranstaltungen für Aktion Theaterfoyer e.V.
REFRESH-INTERVAL;VALUE=DURATION:PT1H
X-Robots-Tag:noindex
X-PUBLISHED-TTL:PT1H
BEGIN:VTIMEZONE
TZID:UTC
BEGIN:STANDARD
TZOFFSETFROM:+0000
TZOFFSETTO:+0000
TZNAME:UTC
DTSTART:20220101T000000
END:STANDARD
END:VTIMEZONE
BEGIN:VEVENT
DTSTART;TZID=UTC:20230430T110000
DTEND;TZID=UTC:20230430T110000
DTSTAMP:20260425T023812
CREATED:20230306T134857Z
LAST-MODIFIED:20230306T135129Z
UID:989-1682852400-1682852400@theaterfoyer-darmstadt.de
SUMMARY:Frühschoppen mit Salomon C. Kenner Group
DESCRIPTION:Im April 2023 feiert die Aktion Theaterfoyer ihr 50-jähriges Bestehen. \nAbschluss des Jubliäumsmonats wird der Frühschoppen am 30. April bilden.\nUnter der Moderation von Rolf Hartmann begrüßen wir die Salomon C. Kenner Group. \nWeitere Information zur Band finden Sie auf deren Website https://www.salomon-c-kenner-group.de
URL:https://theaterfoyer-darmstadt.de/aktion/fruehschoppen-mit-salomon-c-kenner-group/
LOCATION:Staatstheater Darmstadt\, Georg-Büchner-Platz 1\, Darmstadt\, Hessen\, 64283\, Deutschland
CATEGORIES:Frühschoppen
END:VEVENT
END:VCALENDAR