BEGIN:VCALENDAR
VERSION:2.0
PRODID:-//Aktion Theaterfoyer e.V. - ECPv6.15.20//NONSGML v1.0//EN
CALSCALE:GREGORIAN
METHOD:PUBLISH
X-WR-CALNAME:Aktion Theaterfoyer e.V.
X-ORIGINAL-URL:https://theaterfoyer-darmstadt.de
X-WR-CALDESC:Veranstaltungen für Aktion Theaterfoyer e.V.
REFRESH-INTERVAL;VALUE=DURATION:PT1H
X-Robots-Tag:noindex
X-PUBLISHED-TTL:PT1H
BEGIN:VTIMEZONE
TZID:UTC
BEGIN:STANDARD
TZOFFSETFROM:+0000
TZOFFSETTO:+0000
TZNAME:UTC
DTSTART:20220101T000000
END:STANDARD
END:VTIMEZONE
BEGIN:VEVENT
DTSTART;TZID=UTC:20231009T200000
DTEND;TZID=UTC:20231009T220000
DTSTAMP:20260424T174137
CREATED:20230806T121518Z
LAST-MODIFIED:20230806T121941Z
UID:1085-1696881600-1696888800@theaterfoyer-darmstadt.de
SUMMARY:Cinemafoyer - 09.10.2023
DESCRIPTION:
URL:https://theaterfoyer-darmstadt.de/aktion/cinemafoyer-09-10-2023/
LOCATION:Staatstheater Darmstadt\, Georg-Büchner-Platz 1\, Darmstadt\, Hessen\, 64283\, Deutschland
CATEGORIES:Cinemafoyer
END:VEVENT
BEGIN:VEVENT
DTSTART;TZID=UTC:20231011T160000
DTEND;TZID=UTC:20231011T180000
DTSTAMP:20260424T174137
CREATED:20230806T121632Z
LAST-MODIFIED:20230806T121632Z
UID:1087-1697040000-1697047200@theaterfoyer-darmstadt.de
SUMMARY:Musikalischer Nachmittag - 11.10.2023
DESCRIPTION:
URL:https://theaterfoyer-darmstadt.de/aktion/musikalischer-nachmittag-11-10-2023/
LOCATION:Staatstheater Darmstadt\, Georg-Büchner-Platz 1\, Darmstadt\, Hessen\, 64283\, Deutschland
CATEGORIES:Musikalischer Nachmittag
END:VEVENT
BEGIN:VEVENT
DTSTART;TZID=UTC:20231014T153000
DTEND;TZID=UTC:20231014T173000
DTSTAMP:20260424T174137
CREATED:20230806T121729Z
LAST-MODIFIED:20230806T121729Z
UID:1089-1697297400-1697304600@theaterfoyer-darmstadt.de
SUMMARY:Kammerkonzert - 14.10.2023
DESCRIPTION:
URL:https://theaterfoyer-darmstadt.de/aktion/kammerkonzert-14-10-2023/
LOCATION:Staatstheater Darmstadt\, Georg-Büchner-Platz 1\, Darmstadt\, Hessen\, 64283\, Deutschland
CATEGORIES:Kammerkonzert
END:VEVENT
END:VCALENDAR