BEGIN:VCALENDAR
VERSION:2.0
PRODID:-//Aktion Theaterfoyer e.V. - ECPv6.15.20//NONSGML v1.0//EN
CALSCALE:GREGORIAN
METHOD:PUBLISH
X-ORIGINAL-URL:https://theaterfoyer-darmstadt.de
X-WR-CALDESC:Veranstaltungen für Aktion Theaterfoyer e.V.
REFRESH-INTERVAL;VALUE=DURATION:PT1H
X-Robots-Tag:noindex
X-PUBLISHED-TTL:PT1H
BEGIN:VTIMEZONE
TZID:UTC
BEGIN:STANDARD
TZOFFSETFROM:+0000
TZOFFSETTO:+0000
TZNAME:UTC
DTSTART:20230101T000000
END:STANDARD
END:VTIMEZONE
BEGIN:VEVENT
DTSTART;TZID=UTC:20240311T200000
DTEND;TZID=UTC:20240311T200000
DTSTAMP:20260424T103850
CREATED:20231227T115714Z
LAST-MODIFIED:20231227T115714Z
UID:1137-1710187200-1710187200@theaterfoyer-darmstadt.de
SUMMARY:Cinemafoyer
DESCRIPTION:
URL:https://theaterfoyer-darmstadt.de/aktion/cinemafoyer-20240311/
LOCATION:Staatstheater Darmstadt\, Georg-Büchner-Platz 1\, Darmstadt\, Hessen\, 64283\, Deutschland
CATEGORIES:Cinemafoyer
END:VEVENT
BEGIN:VEVENT
DTSTART;TZID=UTC:20240316T153000
DTEND;TZID=UTC:20240316T153000
DTSTAMP:20260424T103850
CREATED:20231227T115923Z
LAST-MODIFIED:20231227T115923Z
UID:1139-1710603000-1710603000@theaterfoyer-darmstadt.de
SUMMARY:Kammerkonzert
DESCRIPTION:Bläser-Konzert
URL:https://theaterfoyer-darmstadt.de/aktion/kammerkonzert-20240316/
LOCATION:Staatstheater Darmstadt\, Georg-Büchner-Platz 1\, Darmstadt\, Hessen\, 64283\, Deutschland
CATEGORIES:Kammerkonzert
END:VEVENT
BEGIN:VEVENT
DTSTART;TZID=UTC:20240324T110000
DTEND;TZID=UTC:20240324T110000
DTSTAMP:20260424T103850
CREATED:20231227T120139Z
LAST-MODIFIED:20231227T120139Z
UID:1141-1711278000-1711278000@theaterfoyer-darmstadt.de
SUMMARY:HMP
DESCRIPTION:Frühschoppen mit HMP
URL:https://theaterfoyer-darmstadt.de/aktion/hmp/
LOCATION:Staatstheater Darmstadt\, Georg-Büchner-Platz 1\, Darmstadt\, Hessen\, 64283\, Deutschland
CATEGORIES:Frühschoppen
END:VEVENT
BEGIN:VEVENT
DTSTART;TZID=UTC:20240327T160000
DTEND;TZID=UTC:20240327T160000
DTSTAMP:20260424T103850
CREATED:20231227T120317Z
LAST-MODIFIED:20231227T120317Z
UID:1143-1711555200-1711555200@theaterfoyer-darmstadt.de
SUMMARY:Musikalischer Nachmittag
DESCRIPTION:Solistinnen und Solisten des Staatstheaters und der Da Ponte-Stiftung
URL:https://theaterfoyer-darmstadt.de/aktion/musikalischer-nachmittag-20240327/
LOCATION:Staatstheater Darmstadt\, Georg-Büchner-Platz 1\, Darmstadt\, Hessen\, 64283\, Deutschland
CATEGORIES:Musikalischer Nachmittag
END:VEVENT
END:VCALENDAR