BEGIN:VCALENDAR
VERSION:2.0
PRODID:-//Aktion Theaterfoyer e.V. - ECPv6.15.20//NONSGML v1.0//EN
CALSCALE:GREGORIAN
METHOD:PUBLISH
X-ORIGINAL-URL:https://theaterfoyer-darmstadt.de
X-WR-CALDESC:Veranstaltungen für Aktion Theaterfoyer e.V.
REFRESH-INTERVAL;VALUE=DURATION:PT1H
X-Robots-Tag:noindex
X-PUBLISHED-TTL:PT1H
BEGIN:VTIMEZONE
TZID:UTC
BEGIN:STANDARD
TZOFFSETFROM:+0000
TZOFFSETTO:+0000
TZNAME:UTC
DTSTART:20230101T000000
END:STANDARD
END:VTIMEZONE
BEGIN:VEVENT
DTSTART;TZID=UTC:20240415T200000
DTEND;TZID=UTC:20240415T200000
DTSTAMP:20260424T091141
CREATED:20231227T120538Z
LAST-MODIFIED:20231227T120538Z
UID:1145-1713211200-1713211200@theaterfoyer-darmstadt.de
SUMMARY:Cinemafoyer
DESCRIPTION:
URL:https://theaterfoyer-darmstadt.de/aktion/cinemafoyer-20240415/
LOCATION:Staatstheater Darmstadt\, Georg-Büchner-Platz 1\, Darmstadt\, Hessen\, 64283\, Deutschland
CATEGORIES:Cinemafoyer
END:VEVENT
BEGIN:VEVENT
DTSTART;TZID=UTC:20240417T160000
DTEND;TZID=UTC:20240417T160000
DTSTAMP:20260424T091141
CREATED:20231227T122114Z
LAST-MODIFIED:20231227T122114Z
UID:1161-1713369600-1713369600@theaterfoyer-darmstadt.de
SUMMARY:Musikalischer Nachmittag
DESCRIPTION:Solistinnen und Solisten des Staatstheaters und der Da Ponte-Stiftung
URL:https://theaterfoyer-darmstadt.de/aktion/musikalischer-nachmittag-20240417/
LOCATION:Staatstheater Darmstadt\, Georg-Büchner-Platz 1\, Darmstadt\, Hessen\, 64283\, Deutschland
CATEGORIES:Musikalischer Nachmittag
END:VEVENT
BEGIN:VEVENT
DTSTART;TZID=UTC:20240420T153000
DTEND;TZID=UTC:20240420T153000
DTSTAMP:20260424T091141
CREATED:20231227T120751Z
LAST-MODIFIED:20231227T120751Z
UID:1147-1713627000-1713627000@theaterfoyer-darmstadt.de
SUMMARY:Kammerkonzert
DESCRIPTION:Duo Bejamba\, Gitarre und Flöte
URL:https://theaterfoyer-darmstadt.de/aktion/kammerkonzert-20240420/
LOCATION:Staatstheater Darmstadt\, Georg-Büchner-Platz 1\, Darmstadt\, Hessen\, 64283\, Deutschland
CATEGORIES:Kammerkonzert
END:VEVENT
BEGIN:VEVENT
DTSTART;TZID=UTC:20240421T110000
DTEND;TZID=UTC:20240421T110000
DTSTAMP:20260424T091141
CREATED:20231227T120905Z
LAST-MODIFIED:20231227T120905Z
UID:1149-1713697200-1713697200@theaterfoyer-darmstadt.de
SUMMARY:THW-Bigband
DESCRIPTION:Frühschoppen mit der THW-Bigband
URL:https://theaterfoyer-darmstadt.de/aktion/thw-bigband/
LOCATION:Staatstheater Darmstadt\, Georg-Büchner-Platz 1\, Darmstadt\, Hessen\, 64283\, Deutschland
CATEGORIES:Frühschoppen
END:VEVENT
END:VCALENDAR