BEGIN:VCALENDAR
VERSION:2.0
PRODID:-//Aktion Theaterfoyer e.V. - ECPv6.15.20//NONSGML v1.0//EN
CALSCALE:GREGORIAN
METHOD:PUBLISH
X-WR-CALNAME:Aktion Theaterfoyer e.V.
X-ORIGINAL-URL:https://theaterfoyer-darmstadt.de
X-WR-CALDESC:Veranstaltungen für Aktion Theaterfoyer e.V.
REFRESH-INTERVAL;VALUE=DURATION:PT1H
X-Robots-Tag:noindex
X-PUBLISHED-TTL:PT1H
BEGIN:VTIMEZONE
TZID:UTC
BEGIN:STANDARD
TZOFFSETFROM:+0000
TZOFFSETTO:+0000
TZNAME:UTC
DTSTART:20230101T000000
END:STANDARD
END:VTIMEZONE
BEGIN:VEVENT
DTSTART;TZID=UTC:20240504T153000
DTEND;TZID=UTC:20240504T153000
DTSTAMP:20260424T074059
CREATED:20231227T121057Z
LAST-MODIFIED:20231227T121057Z
UID:1151-1714836600-1714836600@theaterfoyer-darmstadt.de
SUMMARY:Kammerkonzert
DESCRIPTION:Tenor mit Begleitung am Flügel
URL:https://theaterfoyer-darmstadt.de/aktion/kammerkonzert-20240504/
LOCATION:Staatstheater Darmstadt\, Georg-Büchner-Platz 1\, Darmstadt\, Hessen\, 64283\, Deutschland
CATEGORIES:Kammerkonzert
END:VEVENT
END:VCALENDAR