BEGIN:VCALENDAR
VERSION:2.0
PRODID:-//Aktion Theaterfoyer e.V. - ECPv6.15.20//NONSGML v1.0//EN
CALSCALE:GREGORIAN
METHOD:PUBLISH
X-ORIGINAL-URL:https://theaterfoyer-darmstadt.de
X-WR-CALDESC:Veranstaltungen für Aktion Theaterfoyer e.V.
REFRESH-INTERVAL;VALUE=DURATION:PT1H
X-Robots-Tag:noindex
X-PUBLISHED-TTL:PT1H
BEGIN:VTIMEZONE
TZID:UTC
BEGIN:STANDARD
TZOFFSETFROM:+0000
TZOFFSETTO:+0000
TZNAME:UTC
DTSTART:20230101T000000
END:STANDARD
END:VTIMEZONE
BEGIN:VEVENT
DTSTART;TZID=UTC:20240602T110000
DTEND;TZID=UTC:20240602T110000
DTSTAMP:20260424T062726
CREATED:20231227T121207Z
LAST-MODIFIED:20231227T121207Z
UID:1153-1717326000-1717326000@theaterfoyer-darmstadt.de
SUMMARY:Time Bandits
DESCRIPTION:Frühschoppen mit Time Bandits
URL:https://theaterfoyer-darmstadt.de/aktion/time-bandits/
LOCATION:Staatstheater Darmstadt\, Georg-Büchner-Platz 1\, Darmstadt\, Hessen\, 64283\, Deutschland
CATEGORIES:Frühschoppen
END:VEVENT
BEGIN:VEVENT
DTSTART;TZID=UTC:20240605T160000
DTEND;TZID=UTC:20240605T160000
DTSTAMP:20260424T062726
CREATED:20231227T121327Z
LAST-MODIFIED:20231227T121327Z
UID:1155-1717603200-1717603200@theaterfoyer-darmstadt.de
SUMMARY:Musikalischer Nachmittag
DESCRIPTION:Solistinnen und Solisten des Staatstheaters und der Da Ponte-Stiftung
URL:https://theaterfoyer-darmstadt.de/aktion/musikalischer-nachmittag-20240605/
LOCATION:Staatstheater Darmstadt\, Georg-Büchner-Platz 1\, Darmstadt\, Hessen\, 64283\, Deutschland
CATEGORIES:Musikalischer Nachmittag
END:VEVENT
BEGIN:VEVENT
DTSTART;TZID=UTC:20240608T153000
DTEND;TZID=UTC:20240608T153000
DTSTAMP:20260424T062726
CREATED:20231227T121442Z
LAST-MODIFIED:20231227T121442Z
UID:1157-1717860600-1717860600@theaterfoyer-darmstadt.de
SUMMARY:Kammerkonzert
DESCRIPTION:
URL:https://theaterfoyer-darmstadt.de/aktion/kammerkonzert-20240608/
LOCATION:Staatstheater Darmstadt\, Georg-Büchner-Platz 1\, Darmstadt\, Hessen\, 64283\, Deutschland
CATEGORIES:Kammerkonzert
END:VEVENT
END:VCALENDAR