BEGIN:VCALENDAR
VERSION:2.0
PRODID:-//Aktion Theaterfoyer e.V. - ECPv6.15.20//NONSGML v1.0//EN
CALSCALE:GREGORIAN
METHOD:PUBLISH
X-ORIGINAL-URL:https://theaterfoyer-darmstadt.de
X-WR-CALDESC:Veranstaltungen für Aktion Theaterfoyer e.V.
REFRESH-INTERVAL;VALUE=DURATION:PT1H
X-Robots-Tag:noindex
X-PUBLISHED-TTL:PT1H
BEGIN:VTIMEZONE
TZID:UTC
BEGIN:STANDARD
TZOFFSETFROM:+0000
TZOFFSETTO:+0000
TZNAME:UTC
DTSTART:20230101T000000
END:STANDARD
END:VTIMEZONE
BEGIN:VEVENT
DTSTART;VALUE=DATE:20240701
DTEND;VALUE=DATE:20240801
DTSTAMP:20260424T050521
CREATED:20231227T121619Z
LAST-MODIFIED:20231227T121619Z
UID:1159-1719792000-1722470399@theaterfoyer-darmstadt.de
SUMMARY:Im Juli keine Veranstaltungen
DESCRIPTION:
URL:https://theaterfoyer-darmstadt.de/aktion/im-juli-keine-veranstaltungen/
LOCATION:Staatstheater Darmstadt\, Georg-Büchner-Platz 1\, Darmstadt\, Hessen\, 64283\, Deutschland
END:VEVENT
END:VCALENDAR