BEGIN:VCALENDAR
VERSION:2.0
PRODID:-//Aktion Theaterfoyer e.V. - ECPv6.15.20//NONSGML v1.0//EN
CALSCALE:GREGORIAN
METHOD:PUBLISH
X-ORIGINAL-URL:https://theaterfoyer-darmstadt.de
X-WR-CALDESC:Veranstaltungen für Aktion Theaterfoyer e.V.
REFRESH-INTERVAL;VALUE=DURATION:PT1H
X-Robots-Tag:noindex
X-PUBLISHED-TTL:PT1H
BEGIN:VTIMEZONE
TZID:UTC
BEGIN:STANDARD
TZOFFSETFROM:+0000
TZOFFSETTO:+0000
TZNAME:UTC
DTSTART:20230101T000000
END:STANDARD
END:VTIMEZONE
BEGIN:VEVENT
DTSTART;TZID=UTC:20240911T160000
DTEND;TZID=UTC:20240911T160000
DTSTAMP:20260424T022808
CREATED:20240812T172022Z
LAST-MODIFIED:20240813T204219Z
UID:1194-1726070400-1726070400@theaterfoyer-darmstadt.de
SUMMARY:Musikalischer Nachmittag
DESCRIPTION:Gestaltet von Mitgliedern des Staatstheaters Darmstadt und Stipendiaten der Da-Ponte-Stiftung
URL:https://theaterfoyer-darmstadt.de/aktion/musikalischer-nachmittag-4/
LOCATION:Staatstheater Darmstadt\, Georg-Büchner-Platz 1\, Darmstadt\, Hessen\, 64283\, Deutschland
CATEGORIES:Musikalischer Nachmittag
END:VEVENT
BEGIN:VEVENT
DTSTART;TZID=UTC:20240914T153000
DTEND;TZID=UTC:20240914T153000
DTSTAMP:20260424T022808
CREATED:20240812T172143Z
LAST-MODIFIED:20240813T204417Z
UID:1196-1726327800-1726327800@theaterfoyer-darmstadt.de
SUMMARY:Kammerkonzert: Duo Bejamba
DESCRIPTION:Das Duo BEJAMBÁ spielt Musik für Flöte und Gitarre aus Balkan\, Moderne\, Tango und Lateinamerika.\nDabei geht das Duo auf musikalische Reise nach Argentinien\, Brasilien\, Bulgarien\, Serbien\, Griechenland\, Patagonien und Nordamerika.\nCathrin Ambach//Flöte und Benjamin Grundmann//Gitarre haben auf diesen „Reisen“ die unterschiedlichsten Klänge und Stile\, Rhythmen und Melodien entdeckt und lassen sie auf der Bühne aufleben.\nIm aktuellen Programm spielt BEJAMBÁ Musik des argentinischen Gitarristen Marcelo Coronel\, der brasilianischen Akkordeon-Legende Sivuca\, des serbischen Gitarristen Miroslav Tadic\, des argentinischen Pianisten Carlos Aquirre\, des brasilianischen Gitarristen Baden Powell\, des französischen Muliinstrumentalisten Mathias Duplessy und vielen anderen.\nEin Konzertprogramm\, in welchem Elemente aus traditioneller lateinamerikanischer und bulgarischer und serbischer Musik und Neuer Musik gekonnt vereint werden.\nBenjamin Grundmann studierte Gitarre an der Akademie für Tonkunst in Darmstadt\, an der Hochschule für Musik und Darstellende Kunst Frankfurt am Main und an der Musikhochschule in Thessaloniki.\nCathrin Ambach studierte Querflöte an der Hochschule für Musik Köln und an der Hochschule für Musik und Darstellende Kunst in Frankfurt am Main. Sie ist Autorin der Querflötenschule „Querflöte – mein schönstes Hobby“ (Schott Verlag) und tritt in verschiedenen Besetzungen und mit unterschiedlichsten Musikstilen auf. \n 
URL:https://theaterfoyer-darmstadt.de/aktion/kammerkonzert-duo-bejamba/
LOCATION:Staatstheater Darmstadt\, Georg-Büchner-Platz 1\, Darmstadt\, Hessen\, 64283\, Deutschland
CATEGORIES:Kammerkonzert
ATTACH;FMTTYPE=image/jpeg:https://theaterfoyer-darmstadt.de/wp-content/uploads/2024/08/bejaneu_Foto-von-Ambach-scaled.jpg
END:VEVENT
BEGIN:VEVENT
DTSTART;TZID=UTC:20240915T110000
DTEND;TZID=UTC:20240915T110000
DTSTAMP:20260424T022808
CREATED:20240812T172252Z
LAST-MODIFIED:20240812T172252Z
UID:1198-1726398000-1726398000@theaterfoyer-darmstadt.de
SUMMARY:Frühschoppen - Die Highknees
DESCRIPTION:Die Highknees\nCover vom Feinsten
URL:https://theaterfoyer-darmstadt.de/aktion/fruehschoppen-die-highknees/
LOCATION:Hessen
CATEGORIES:Frühschoppen
END:VEVENT
BEGIN:VEVENT
DTSTART;TZID=UTC:20240923T200000
DTEND;TZID=UTC:20240923T200000
DTSTAMP:20260424T022808
CREATED:20240812T172342Z
LAST-MODIFIED:20240812T172342Z
UID:1200-1727121600-1727121600@theaterfoyer-darmstadt.de
SUMMARY:Cinemafoyer
DESCRIPTION:Ausgewählte Kinofilme
URL:https://theaterfoyer-darmstadt.de/aktion/cinemafoyer-3/
LOCATION:Hessen
CATEGORIES:Cinemafoyer
END:VEVENT
END:VCALENDAR