BEGIN:VCALENDAR
VERSION:2.0
PRODID:-//Aktion Theaterfoyer e.V. - ECPv6.15.20//NONSGML v1.0//EN
CALSCALE:GREGORIAN
METHOD:PUBLISH
X-WR-CALNAME:Aktion Theaterfoyer e.V.
X-ORIGINAL-URL:https://theaterfoyer-darmstadt.de
X-WR-CALDESC:Veranstaltungen für Aktion Theaterfoyer e.V.
REFRESH-INTERVAL;VALUE=DURATION:PT1H
X-Robots-Tag:noindex
X-PUBLISHED-TTL:PT1H
BEGIN:VTIMEZONE
TZID:UTC
BEGIN:STANDARD
TZOFFSETFROM:+0000
TZOFFSETTO:+0000
TZNAME:UTC
DTSTART:20230101T000000
END:STANDARD
END:VTIMEZONE
BEGIN:VEVENT
DTSTART;TZID=UTC:20241012T153000
DTEND;TZID=UTC:20241012T173000
DTSTAMP:20260424T011134
CREATED:20241012T124035Z
LAST-MODIFIED:20241012T124035Z
UID:1211-1728747000-1728754200@theaterfoyer-darmstadt.de
SUMMARY:Darmstädter Beatles Streichquintett
DESCRIPTION:Darmstädter Beatles Streichquintett\n https://www.beatles-streichquintett.de/Home
URL:https://theaterfoyer-darmstadt.de/aktion/darmstaedter-beatles-streichquintett/
LOCATION:Staatstheater Darmstadt\, Georg-Büchner-Platz 1\, Darmstadt\, Hessen\, 64283\, Deutschland
CATEGORIES:Kammerkonzert
END:VEVENT
BEGIN:VEVENT
DTSTART;TZID=UTC:20241021T200000
DTEND;TZID=UTC:20241021T220000
DTSTAMP:20260424T011134
CREATED:20241012T124759Z
LAST-MODIFIED:20241012T124944Z
UID:1213-1729540800-1729548000@theaterfoyer-darmstadt.de
SUMMARY:Cinemafoyer
DESCRIPTION:Zu sehen sind ausgewählte alte und ältere Kinofilme und natürlich Kultfilme.
URL:https://theaterfoyer-darmstadt.de/aktion/cinemafoyer-4/
LOCATION:Staatstheater Darmstadt\, Georg-Büchner-Platz 1\, Darmstadt\, Hessen\, 64283\, Deutschland
CATEGORIES:Cinemafoyer
END:VEVENT
END:VCALENDAR