BEGIN:VCALENDAR
VERSION:2.0
PRODID:-//Aktion Theaterfoyer e.V. - ECPv6.15.20//NONSGML v1.0//EN
CALSCALE:GREGORIAN
METHOD:PUBLISH
X-ORIGINAL-URL:https://theaterfoyer-darmstadt.de
X-WR-CALDESC:Veranstaltungen für Aktion Theaterfoyer e.V.
REFRESH-INTERVAL;VALUE=DURATION:PT1H
X-Robots-Tag:noindex
X-PUBLISHED-TTL:PT1H
BEGIN:VTIMEZONE
TZID:UTC
BEGIN:STANDARD
TZOFFSETFROM:+0000
TZOFFSETTO:+0000
TZNAME:UTC
DTSTART:20230101T000000
END:STANDARD
END:VTIMEZONE
BEGIN:VEVENT
DTSTART;TZID=UTC:20241204T160000
DTEND;TZID=UTC:20241204T180000
DTSTAMP:20260423T221655
CREATED:20241012T130412Z
LAST-MODIFIED:20241222T155631Z
UID:1223-1733328000-1733335200@theaterfoyer-darmstadt.de
SUMMARY:Musikalischer Nachmittag
DESCRIPTION:Sängerinnen und Sänger aus dem Ensemble des Staatstheaters  und Stipendiaten der Da-Ponte-Stiftung gestalten das Programm.
URL:https://theaterfoyer-darmstadt.de/aktion/musikalischer-nachmittag-6/
LOCATION:Staatstheater Darmstadt\, Georg-Büchner-Platz 1\, Darmstadt\, Hessen\, 64283\, Deutschland
CATEGORIES:Musikalischer Nachmittag
END:VEVENT
BEGIN:VEVENT
DTSTART;TZID=UTC:20241214T130000
DTEND;TZID=UTC:20241214T150000
DTSTAMP:20260423T221655
CREATED:20241012T131352Z
LAST-MODIFIED:20241203T091803Z
UID:1225-1734181200-1734188400@theaterfoyer-darmstadt.de
SUMMARY:Oliver May und Romana Danhel-Kolb
DESCRIPTION:Das Kammerkonzert beginnt bereits um 13:00 Uhr! \n \nOliver May\, Countertenor\nRomana Danhel-Kolb\, Klavier \n„Mein Lied ertönt“ – Lieder von Gustav Mahler und Antonin Dvorak
URL:https://theaterfoyer-darmstadt.de/aktion/oliver-may-und-romana-danhel-kolb/
LOCATION:Staatstheater Darmstadt\, Georg-Büchner-Platz 1\, Darmstadt\, Hessen\, 64283\, Deutschland
CATEGORIES:Kammerkonzert
END:VEVENT
BEGIN:VEVENT
DTSTART;TZID=UTC:20241216T200000
DTEND;TZID=UTC:20241216T220000
DTSTAMP:20260423T221655
CREATED:20241012T131535Z
LAST-MODIFIED:20241012T131535Z
UID:1227-1734379200-1734386400@theaterfoyer-darmstadt.de
SUMMARY:Cinemafoyer
DESCRIPTION:Zu sehen sind ausgewählte alte und ältere Kinofilme und natürlich Kultfilme.
URL:https://theaterfoyer-darmstadt.de/aktion/cinemafoyer-5/
LOCATION:Staatstheater Darmstadt\, Georg-Büchner-Platz 1\, Darmstadt\, Hessen\, 64283\, Deutschland
CATEGORIES:Cinemafoyer
END:VEVENT
BEGIN:VEVENT
DTSTART;TZID=UTC:20241222T110000
DTEND;TZID=UTC:20241222T130000
DTSTAMP:20260423T221655
CREATED:20241012T131746Z
LAST-MODIFIED:20241027T103226Z
UID:1229-1734865200-1734872400@theaterfoyer-darmstadt.de
SUMMARY:Boys of 69
DESCRIPTION:“Boys of 69” – der Name der Band um den charismatischen Bandleader Eddy Joseph ist Programm: Mit purer Leidenschaft und unbändiger Spielfreude covern sich die erfahrenen Musiker hauptsächlich durch Rock- und Popklassiker der Flower Power Zeit. Fogerty trifft auf Cash\, die Beatles auf die Rolling Stones und Chuck Berry auf James Brown. \nDoch damit gibt sich die Band nicht zufrieden. Angereichert wird das Programm um moderne Klassiker von Billy Idol\, Kings of Leon\, den Toten Hosen\, Ärzten oder auch Reamon. Somit dürften Generationenkonflikte bei den zahlreichen Konzerten keine Rolle spielen. A propos Konzerte: Davon haben die Musiker in ihrer Karriere reichlich gespielt – zusammengenommen dürften es weit über 1000 gewesen sein. “Wir sind aber noch nicht müde\, der Rock ’n‘ Roll hält uns jung”\, beteuert Schlagzeuger Jürgen Lübbers mit einem Augenzwinkern. Er übernimmt auch bei vielen Songs den Leadgesang oder sorgt mit einer glasklaren 2. Stimme für die besondere Note in den Songs. Komplettiert wird das Power-Trio von Steffen Schank am Bass\, der mit seinen knackigen Grooves der Band das musikalische Fundament gibt. \n https://www.boysof69.de/
URL:https://theaterfoyer-darmstadt.de/aktion/boys-of-69/
LOCATION:Staatstheater Darmstadt\, Georg-Büchner-Platz 1\, Darmstadt\, Hessen\, 64283\, Deutschland
CATEGORIES:Frühschoppen
END:VEVENT
END:VCALENDAR