BEGIN:VCALENDAR
VERSION:2.0
PRODID:-//Aktion Theaterfoyer e.V. - ECPv6.15.20//NONSGML v1.0//EN
CALSCALE:GREGORIAN
METHOD:PUBLISH
X-WR-CALNAME:Aktion Theaterfoyer e.V.
X-ORIGINAL-URL:https://theaterfoyer-darmstadt.de
X-WR-CALDESC:Veranstaltungen für Aktion Theaterfoyer e.V.
REFRESH-INTERVAL;VALUE=DURATION:PT1H
X-Robots-Tag:noindex
X-PUBLISHED-TTL:PT1H
BEGIN:VTIMEZONE
TZID:UTC
BEGIN:STANDARD
TZOFFSETFROM:+0000
TZOFFSETTO:+0000
TZNAME:UTC
DTSTART:20240101T000000
END:STANDARD
END:VTIMEZONE
BEGIN:VEVENT
DTSTART;TZID=UTC:20250108T160000
DTEND;TZID=UTC:20250108T180000
DTSTAMP:20260423T204949
CREATED:20250105T182131Z
LAST-MODIFIED:20250105T182231Z
UID:1271-1736352000-1736359200@theaterfoyer-darmstadt.de
SUMMARY:Musikalischer Nachmittag
DESCRIPTION:Sängerinnen und Sänger aus dem Ensemble des Staatstheaters und  Stipendiaten der Da-Ponte-Stiftung gestalten das Programm.
URL:https://theaterfoyer-darmstadt.de/aktion/musikalischer-nachmittag-7/
LOCATION:Staatstheater Darmstadt\, Georg-Büchner-Platz 1\, Darmstadt\, Hessen\, 64283\, Deutschland
CATEGORIES:Musikalischer Nachmittag
END:VEVENT
BEGIN:VEVENT
DTSTART;TZID=UTC:20250112T110000
DTEND;TZID=UTC:20250112T130000
DTSTAMP:20260423T204949
CREATED:20250105T182619Z
LAST-MODIFIED:20250105T182619Z
UID:1275-1736679600-1736686800@theaterfoyer-darmstadt.de
SUMMARY:Frühschoppen – Silverballs
DESCRIPTION:The Silverballs – Rock’n’Roll vom Allerfeinsten
URL:https://theaterfoyer-darmstadt.de/aktion/fruehschoppen-silverballs/
LOCATION:Staatstheater Darmstadt\, Georg-Büchner-Platz 1\, Darmstadt\, Hessen\, 64283\, Deutschland
CATEGORIES:Frühschoppen
END:VEVENT
BEGIN:VEVENT
DTSTART;TZID=UTC:20250113T200000
DTEND;TZID=UTC:20250113T220000
DTSTAMP:20260423T204949
CREATED:20250105T182812Z
LAST-MODIFIED:20250105T182812Z
UID:1277-1736798400-1736805600@theaterfoyer-darmstadt.de
SUMMARY:Cinemafoyer
DESCRIPTION:Zu sehen sind ausgewählte alte und ältere Kinofilme und natürlich Kultfilme.
URL:https://theaterfoyer-darmstadt.de/aktion/cinemafoyer-6/
LOCATION:Staatstheater Darmstadt\, Georg-Büchner-Platz 1\, Darmstadt\, Hessen\, 64283\, Deutschland
CATEGORIES:Cinemafoyer
END:VEVENT
BEGIN:VEVENT
DTSTART;TZID=UTC:20250125T153000
DTEND;TZID=UTC:20250125T173000
DTSTAMP:20260423T204949
CREATED:20250105T183054Z
LAST-MODIFIED:20250105T185040Z
UID:1279-1737819000-1737826200@theaterfoyer-darmstadt.de
SUMMARY:Kammerkonzert – Mizuko Quaiser-Hakura und Manfred Bockschweiger
DESCRIPTION:Mizuko Quaiser-Hakura\, Klavier und\nManfred Bockschweiger\, Trompete \nProgramm\nGiuseppe Romanino\nKonzert D-Dur für Trompete und Klavier\nAllegro-Andante-Allegro \nWolfgang Amadeus Mozart\nFantasie in d-Moll \nJohann Nepomuk Hummel\nKonzert Es- Dur für Trompete und Klavier\nAllegro con Spirito-Andante-Rondo \nPause \nEugène Bozza\nCaprice für Trompete und Klavier \nJean Sibelius\nGranen Op. 75 Nr. 5 \nJohn Hartmann\nFantasia Brilliante „Rule Britannia“ für Kornett und Klavier \nProkofiev\nPrelude op.12-7 \nGeorge Gershwin\n„Someone to watch over me“ für Trompete und Klavier \n  \n 
URL:https://theaterfoyer-darmstadt.de/aktion/kammerkonzert-mizuko-quaiser-hakura-und-manfred-bockschweiger/
LOCATION:Staatstheater Darmstadt\, Georg-Büchner-Platz 1\, Darmstadt\, Hessen\, 64283\, Deutschland
CATEGORIES:Kammerkonzert
END:VEVENT
END:VCALENDAR