BEGIN:VCALENDAR
VERSION:2.0
PRODID:-//Aktion Theaterfoyer e.V. - ECPv6.15.20//NONSGML v1.0//EN
CALSCALE:GREGORIAN
METHOD:PUBLISH
X-ORIGINAL-URL:https://theaterfoyer-darmstadt.de
X-WR-CALDESC:Veranstaltungen für Aktion Theaterfoyer e.V.
REFRESH-INTERVAL;VALUE=DURATION:PT1H
X-Robots-Tag:noindex
X-PUBLISHED-TTL:PT1H
BEGIN:VTIMEZONE
TZID:UTC
BEGIN:STANDARD
TZOFFSETFROM:+0000
TZOFFSETTO:+0000
TZNAME:UTC
DTSTART:20240101T000000
END:STANDARD
END:VTIMEZONE
BEGIN:VEVENT
DTSTART;TZID=UTC:20250305T160000
DTEND;TZID=UTC:20250305T180000
DTSTAMP:20260423T174424
CREATED:20250209T210711Z
LAST-MODIFIED:20250209T210711Z
UID:1297-1741190400-1741197600@theaterfoyer-darmstadt.de
SUMMARY:Musikalischer Nachmittag
DESCRIPTION:Gestaltet von Mitgliedern des Staatstheaters Darmstadt & Stipendiaten der Da Ponte-Stiftung
URL:https://theaterfoyer-darmstadt.de/aktion/musikalischer-nachmittag-9/
LOCATION:Staatstheater Darmstadt\, Georg-Büchner-Platz 1\, Darmstadt\, Hessen\, 64283\, Deutschland
CATEGORIES:Musikalischer Nachmittag
END:VEVENT
BEGIN:VEVENT
DTSTART;TZID=UTC:20250316T110000
DTEND;TZID=UTC:20250316T130000
DTSTAMP:20260423T174424
CREATED:20250209T210923Z
LAST-MODIFIED:20250209T212103Z
UID:1299-1742122800-1742130000@theaterfoyer-darmstadt.de
SUMMARY:Key to Kingdom Band
DESCRIPTION:„Key to my kingdom“ – dieser Song von B.B.King stand Pate für den Namen der achtköpfigen Band\, deren Mitglieder ihren „Schlüssel zum Königreich“ in ihrer gemeinsamen Musik finden. Heraus kommt dabei ein Mix aus Soul- und Blues(rock)songs\, die mit funkigen und jazzigen Klängen ergänzt werden. Das Repertoire der Band umfasst u.a. Soulcovers von Interpreten wie Aretha Franklin\, Van Morrison\, Stevie Wonder\, Ray Charles oder Amy Winehouse\, Bluessongs u.a. von Tom Waits oder B.B. King wie auch rockigere Nummern z.B. eines Prince oder einer Rihanna. \nFür den richtigen Groove sorgen dabei Oli Seeger (Drums) und Frank Ermecke (Bass). Der Sound der Band wird von Keyboard (Rüdiger Tietze) sowie die Bläsersätze und Soli von Gregor Mattes (Saxofon) und Philipp Voll sowie Markus von Hammel (Harp) getragen. Das Mikrofon teilen sich die Frontlady Marie Szücs und Gitarrist Stefan Hohgraefe. \nIn der jetzigen Besetzung hat die Band seit 2023 zahlreiche große und kleinere Bühnen des Rhein-Main Gebietes bespielt. Alle Bandmitglieder weisen langjährige Erfahrung in verschiedenen Bands und Musikgenres auf. „Key to kingdom“ ist für sie ein Leidenschaftsprojekt\, bei dem der Spaß der Musiker gezielt auf das Publikum überspringen soll. Mitsingen und -swingen sind ausdrücklich erlaubt. \nWebsite: www.keytokingdom.de
URL:https://theaterfoyer-darmstadt.de/aktion/key-to-kingdom-band/
LOCATION:Staatstheater Darmstadt\, Georg-Büchner-Platz 1\, Darmstadt\, Hessen\, 64283\, Deutschland
CATEGORIES:Frühschoppen
ATTACH;FMTTYPE=image/webp:https://theaterfoyer-darmstadt.de/wp-content/uploads/2025/02/Bandbild-Presse-0125.webp
END:VEVENT
BEGIN:VEVENT
DTSTART;TZID=UTC:20250322T153000
DTEND;TZID=UTC:20250322T173000
DTSTAMP:20260423T174424
CREATED:20250209T211031Z
LAST-MODIFIED:20250304T220409Z
UID:1301-1742657400-1742664600@theaterfoyer-darmstadt.de
SUMMARY:Olga Chelova
DESCRIPTION:Klavierkonzert \nProgramm\nPeter Illitsch Tschaikowsky (1840-1893)\nJahreszeiten op.37a \nMaurice Ravel ( 1835-1937)\n„Scarbo“ aus der Suite Gaspard de la nuit \nWerke von J. Haydn (1732-1809) und F. Liszt (1811-1886) \nÜber Olga Chelova\nOlga Chelova ist eine preisgekrönte Pianistin und Komponistin. Sie wuchs in der kulturell reichen Küstenstadt Odessa auf\, wo ihr Talent in der angesehenen Stolyarsky-Schule gefördert wurde. Ihr Weg führte sie nach Hannover an die Hochschule für Musik\, Theater und Medien\, gefolgt von einem Postgraduiertenstudium am Mozarteum in Salzburg. \nOlga Chelovas Kompositionen und Aufführungen sind tief im Humanismus verwurzelt. Sie hat ganze Konzerte den Werken von Komponisten gewidmet\, die ihr Leben in Konzentrationslagern ließen. Ein weiterer Schwerpunkt ihrer Arbeit liegt auf der Unterstützung von Opfern von Mobbing\, was sich in ihrer Kantate „Gottes Mühlen mahlen langsam…“ widerspiegelt. \nAls Interpretin reicht ihr Repertoire von Barock bis zur Moderne\, wobei ein besonderer Schwerpunkt auf den Werken von Frédéric Chopin liegt. Ihre Debüt-CD „Schumann/Liszt/Brahms“ wurde 2021 unter dem deutschen Label NEOS veröffentlicht und brachte ihr Nominierungen für den Opus Classic Award 2022 ein. \nOlga Chelova ist Preisträgerin von über 20 internationalen Wettbewerben und seit 2022 Steinway Artist. Sie ist die Organisatorin und künstlerische Leiterin des Musikfestivals „Mörfelder Musik-Festival von Olga Chelova“. Ihre Musik berührt und inspiriert Menschen weltweit. \nQuelle: https://olgachelova1.wixsite.com/olgachelova-1/olga
URL:https://theaterfoyer-darmstadt.de/aktion/olga-chelova/
LOCATION:Staatstheater Darmstadt\, Georg-Büchner-Platz 1\, Darmstadt\, Hessen\, 64283\, Deutschland
CATEGORIES:Kammerkonzert
ATTACH;FMTTYPE=image/avif:https://theaterfoyer-darmstadt.de/wp-content/uploads/2025/02/1f0485_b1d50b17c1b544b59b43736c969d51a8mv2.avif
END:VEVENT
BEGIN:VEVENT
DTSTART;TZID=UTC:20250324T200000
DTEND;TZID=UTC:20250324T220000
DTSTAMP:20260423T174424
CREATED:20250209T211145Z
LAST-MODIFIED:20250209T213221Z
UID:1303-1742846400-1742853600@theaterfoyer-darmstadt.de
SUMMARY:Cinemafoyer – Der Golem\, wie er in die Welt kam
DESCRIPTION:Der Golem\, wie er in die Welt kam\nStummfilm\, Deutschland 1920\n(mit Live-Klavierbegleitung) \nRegie:\nPaul Wegener\, Carl Boese\nDarsteller:\nPaul Wegener\, Albert Steinbrück u.a.
URL:https://theaterfoyer-darmstadt.de/aktion/cinemafoyer-7/
LOCATION:Staatstheater Darmstadt\, Georg-Büchner-Platz 1\, Darmstadt\, Hessen\, 64283\, Deutschland
CATEGORIES:Cinemafoyer
END:VEVENT
END:VCALENDAR