BEGIN:VCALENDAR
VERSION:2.0
PRODID:-//Aktion Theaterfoyer e.V. - ECPv6.15.20//NONSGML v1.0//EN
CALSCALE:GREGORIAN
METHOD:PUBLISH
X-WR-CALNAME:Aktion Theaterfoyer e.V.
X-ORIGINAL-URL:https://theaterfoyer-darmstadt.de
X-WR-CALDESC:Veranstaltungen für Aktion Theaterfoyer e.V.
REFRESH-INTERVAL;VALUE=DURATION:PT1H
X-Robots-Tag:noindex
X-PUBLISHED-TTL:PT1H
BEGIN:VTIMEZONE
TZID:UTC
BEGIN:STANDARD
TZOFFSETFROM:+0000
TZOFFSETTO:+0000
TZNAME:UTC
DTSTART:20240101T000000
END:STANDARD
END:VTIMEZONE
BEGIN:VEVENT
DTSTART;TZID=UTC:20250907T110000
DTEND;TZID=UTC:20250907T130000
DTSTAMP:20260421T215504
CREATED:20250817T104207Z
LAST-MODIFIED:20250817T104207Z
UID:1389-1757242800-1757250000@theaterfoyer-darmstadt.de
SUMMARY:Frühschoppen – Get Ready
DESCRIPTION:Ganz gleich ob Club-Event\, Open-Air-Festival oder private Party: GET READY begeistert das Publikum mit seiner mitreißenden „handgemachten“ Interpretation von Welthits aus Pop\, Rock\, Show Tunes\, Latin\, Soul und Jazz seit gut 20 Jahren.\nDabei sind die Arrangements speziell auf die außergewöhnliche Besetzung von Get Ready abgestimmt: Piano\, Schlagzeug\, Gitarre\, Bass\, 3x Saxophon und 3x Gesang.\nDas Wichtigste ist der Spaß an der Musik für Euch und uns.
URL:https://theaterfoyer-darmstadt.de/aktion/fruehschoppen-get-ready/
LOCATION:Staatstheater Darmstadt\, Georg-Büchner-Platz 1\, Darmstadt\, Hessen\, 64283\, Deutschland
CATEGORIES:Frühschoppen
ATTACH;FMTTYPE=image/jpeg:https://theaterfoyer-darmstadt.de/wp-content/uploads/2025/08/Get-Ready_20241-scaled.jpeg
END:VEVENT
BEGIN:VEVENT
DTSTART;TZID=UTC:20250913T153000
DTEND;TZID=UTC:20250913T173000
DTSTAMP:20260421T215504
CREATED:20250809T141403Z
LAST-MODIFIED:20250809T141443Z
UID:1381-1757777400-1757784600@theaterfoyer-darmstadt.de
SUMMARY:Kammerkonzert – Flute'n'Bass – Stephanie Wagner\, Norbert Dömling
DESCRIPTION:Stephanie Wagner – C-\, Alt-\, Bass-Flöte\, Effekte\, Komposition \nNorbert Dömling – Kontrabass\, Komposition \nDas Duo „Flute ’n‘ Bass“ mit der Jazzflötistin Stephanie Wagner und Norbert Dömling\, Kontrabass\, weckt die Neugier – denn es stellt im Jazz eine absolute Rarität dar.\nDie im Mai ’23 erschienene Debüt-CD des Duos ist eine außerordentlich gelungene Kombination von hohem und tiefem Instrument\, die ungeahnt leicht und transparent wirkt.\nSound- und Rhythmus-Experimente und die perkussive Spielweise auf beiden Instrumenten sowie das Beatboxen auf der Flöte lassen kein Schlagzeug vermissen.\nDer variabel eingesetzte Klang von Stephanie Wagners C-\, Alt- und Bassflöte und der tiefe\, warme und erdige Kontrabass von Norbert Dömling schaffen wunderbare Kontraste\, Klangfarben und Stimmungen. \nHandfester Groove\, filigrane Klangfarben\, Freies\, Geordnetes und Unerwartetes finden sich in den Eigenkompositionen des Duos wieder. \nIn diesem Projekt haben sich zwei Musikergenerationen in ihrer jeweiligen Einmaligkeit gefunden und zeigen\, was das Zusammenwirken von musikalischer Kreativität bedeuten kann. Ein Duo mit Seltenheitswert und Experimentierfreude!
URL:https://theaterfoyer-darmstadt.de/aktion/kammerkonzert-flutenbass-stephanie-wagner-norbert-doemling/
LOCATION:Staatstheater Darmstadt\, Georg-Büchner-Platz 1\, Darmstadt\, Hessen\, 64283\, Deutschland
CATEGORIES:Kammerkonzert
ATTACH;FMTTYPE=image/jpeg:https://theaterfoyer-darmstadt.de/wp-content/uploads/2025/08/flutenbass.jpeg
END:VEVENT
END:VCALENDAR