BEGIN:VCALENDAR
VERSION:2.0
PRODID:-//Aktion Theaterfoyer e.V. - ECPv6.15.20//NONSGML v1.0//EN
CALSCALE:GREGORIAN
METHOD:PUBLISH
X-ORIGINAL-URL:https://theaterfoyer-darmstadt.de
X-WR-CALDESC:Veranstaltungen für Aktion Theaterfoyer e.V.
REFRESH-INTERVAL;VALUE=DURATION:PT1H
X-Robots-Tag:noindex
X-PUBLISHED-TTL:PT1H
BEGIN:VTIMEZONE
TZID:UTC
BEGIN:STANDARD
TZOFFSETFROM:+0000
TZOFFSETTO:+0000
TZNAME:UTC
DTSTART:20250101T000000
END:STANDARD
END:VTIMEZONE
BEGIN:VEVENT
DTSTART;TZID=UTC:20260201T110000
DTEND;TZID=UTC:20260201T130000
DTSTAMP:20260421T133132
CREATED:20260115T181430Z
LAST-MODIFIED:20260115T181430Z
UID:1472-1769943600-1769950800@theaterfoyer-darmstadt.de
SUMMARY:Frühschoppen – Silverballs
DESCRIPTION:Silverballs\nPreisträger und Gewinner des Deutschen Rock und Pop Preises 2025 in der Kategorie „BESTE Rock`n`Roll Band“ \nSeit 15 Jahren und mit über 500 bundesweit gespielten Konzerten Touren die Ballz unermüdlich ohne Netz und doppelten Boden\, alles Echt\, durch die Lande und zelebrieren dabei den Rock`n`Roll\, die wohl „ehrlichste“ Musik des Universums\, auf ihre unnachahmliche Art und Weise und zählen somit zu den angesagtesten Acts des Landes. \nDabei beschränkt sich die Band nicht nur auf die großen Hits der 50er Jahre.\nDie Klassiker von Chuck Berry\, Sam Cooke\, Fats Domino und Louis Prima kommen in den Shows genauso zum Einsatz wie die großen Hits von Shakin`Stevens\, Queens „Crazy Little Thing Called Love“ und Elton John`s „Crocodile Rock“.\nKünstler aus allen Jahrzehnten und aller Genres haben sich vom ursprünglichen Rock`n`Roll beeinflussen lassen. Genau das zu vermitteln und zu feiern\, die komplette Bandbreite des Rock`n`Roll abzudecken\, haben sich die Ballz zu ihrer ganz eigenen Aufgabe\, zu Ihrer „Mission“ gemacht. \nDie Silverballs holen ihr Publikum ab und nehmen es mit auf eine musikalische Reise durch die Jahrzehnte des Rock`n`Roll und der Musikgeschichte. \nDabei werden die Songs nicht einfach wiedergegeben oder „nett“ interpretiert.\nDie Ballz machen die Songs zu Ihren Eigenen\, spielen sie mit Herzblut\, echtem Schweiß und einer unglaublichen Energie. Dass das Ganze auf höchstem musikalischem Niveau geschieht\, unterstreicht sicherlich der gerade verliehene Deutsche Rock und Pop Preis in der Kategorie „Beste Rock`n`Roll Band“! \nVermehrt sind in den Liveshows Eigenkompositionen zu hören\, die sich nahtlos in den beliebten extrem tanzbaren Stil der Band einreihen.\nMit „C’mon Pretty Baby“\, der ersten Single aus eigener Feder\, unterstreichen die\nSilverballs genau das und hauen gleich mal einen amtlichen BoogieWoogie Tanzbodenkracher raus.\n„Put your two tone shoes and your favorite dress on” lautet eine Zeile aus besagter\nSingle und ist definitiv Programm. \nThe Silverballs … „Das Beste was man unter die Sohle kriegen kann“ \nIt´s a Jumpin`Hot Rock`n`Roll Show
URL:https://theaterfoyer-darmstadt.de/aktion/fruehschoppen-silverballs-2/
LOCATION:Staatstheater Darmstadt\, Georg-Büchner-Platz 1\, Darmstadt\, Hessen\, 64283\, Deutschland
CATEGORIES:Frühschoppen
ATTACH;FMTTYPE=image/jpeg:https://theaterfoyer-darmstadt.de/wp-content/uploads/2026/01/SB-Pop-Preis2-rotated.jpeg
END:VEVENT
BEGIN:VEVENT
DTSTART;TZID=UTC:20260209T200000
DTEND;TZID=UTC:20260209T213000
DTSTAMP:20260421T133132
CREATED:20260115T181923Z
LAST-MODIFIED:20260115T181923Z
UID:1477-1770667200-1770672600@theaterfoyer-darmstadt.de
SUMMARY:Cinemafoyer
DESCRIPTION:Zu sehen sind ausgewählte alte und ältere Kinofilme und natürlich Kultfilme.
URL:https://theaterfoyer-darmstadt.de/aktion/cinemafoyer-februar-2026/
LOCATION:Staatstheater Darmstadt\, Georg-Büchner-Platz 1\, Darmstadt\, Hessen\, 64283\, Deutschland
CATEGORIES:Cinemafoyer
END:VEVENT
BEGIN:VEVENT
DTSTART;TZID=UTC:20260214T153000
DTEND;TZID=UTC:20260214T173000
DTSTAMP:20260421T133132
CREATED:20260115T180350Z
LAST-MODIFIED:20260115T180350Z
UID:1468-1771083000-1771090200@theaterfoyer-darmstadt.de
SUMMARY:Kammerkonzert – CLARINET-PIANO DUO
DESCRIPTION:Erwin Thomczyk\, Klarinette\nKaori Genda\, Klavier \nProgramm\n\nG. Puccini: El lucevan le stelle für Klarinette und Klavier\nNiels Gade: Fantasie Stücke für Klarinette und Klavier\nJohannes Brahms: Solo für Klavier\n\nPause \n\nWolfgang Amadeus Mozart: A -dur Klarinettenkonzert\, Il Satz\nFrancis Poulenc: Sonata für Klarinette und Klavier\nMichele Mangani-Pagina: d’album für Klarinette und Klavier\n\n\nKaori Genda – Vita\n \nDie Pianistin Kaori Genda absolvierte ihr Bachelorstudium und Masterstudium in Japan. Um ihre Fähigkeiten zu vertiefen\, nahm sie ein Studium an der Akademie für Tonkunst Darmstadt auf und absolvierte ihre Künstlerische Reifeprüfung im Fach Klavier bei Frederike Richter und im Fach Klavier-Kammermusik bei Sabine Simon mit der besten Note.\nWährend dieser Zeit beteiligte sie sich regelmäßig an öffentlichen Konzerten als Kammermusikerin.\nWichtige Anregungen erhielt Kaori Genda auch in Meisterkursen bei Pianisten wie u.a. Prof. Dina Yoffe\, Prof. Anna Malikova\, Prof. Kalle Randula\, Prof. Ilja Scheps\, Prof. Catherine Vickers und Prof. Markus Groh. \nZur Zeit studiert sie an der Hochschule für Musik und Darstellende Kunst Mannheim im Fach Instrumental-Korrepetition bei Gulnora Alimova. \nErwin Thomczyk – Vita\n \nSollte man eine Künstlerpersönlichkeit wie Erwin Thomczyk in wenigen Worten beschreiben\, so wären Begriffe wie Kreativität\, Imagination\, Fantasie und Emotionalität als Schlüsselelemente bestimmt dabei. Es ist seine Präferenz\, Werke mit künstlerischem Gehalt zu präsentieren. Die Rhein-Neckar-Zeitung schrieb: „Sein Pianissimo kommt aus dem absoluten Nichts\, es bleibt nichts dem Zufall überlassen und jeder Ton wird mit Bedacht und frappierender Energie ausgeführt“ … . \nSchon früh in seiner Heimat Polen war dem Sohn oberschlesischer Eltern bewusst\, dass Musik in seinem Leben eine wichtige Rolle spielen sollte. Als Elfjähriger begann sein Klarinettenstudium mit dem Besuch des Polnischen National-Lyzeums „Fryderyk Chopin“ in Bytom bei Prof. Alfred Josz. Anschließend studierte er an der Hochschule für Musik und Darstellende Kunst in Mannheim bei Prof. Manfred Klein und Prof. Hans Pfeifer. Mit achtzehn Jahren erhielt er den Würdigungspreis durch das Ministerium für Wissenschaft und Kunst für den Gewinn der Konzertreihe „Junge Musiker auf der Bühne und im Rundfunk“. Außerdem gewann Erwin Thomczyk weiterhin Preise bei internationalen Klarinettenwettbewerben. \nLangjährig wirkte er immer wieder als Klarinettist im Nationaltheater Mannheim und im Staatstheater Darmstadt mit. In dieser Zeit konnte er unter Dirigenten wie Jun Märkl\, Friedemann Layer oder Hans Drewanz wichtige orchestrale Erfahrungen sammeln. Doch das Herz schlug so laut für das Zusammenwirken mit gleichgesinnten Musikern in kleineren Besetzungen\, sodass er sich zunehmend der Kammermusik widmete. So ist er Mitbegründer des erfolgreichen Serana-Trios in der Besetzung Klarinette\, Violine – Antje Reichert und Klavier – Sabine Simon und war sowohl im Darmstädter als auch im Südhessischen Ensemble tätig. \nBisher musizierte Erwin Thomczyk mit Pianisten wie Leonid Dorfman\, Björn Lehmann\, Sabine Simon\, Sabine Thomczyk\, Martin Münch\, Lucas Blondeel\, Katarzyna Glensk\, Dagny Kissas-Baczynska\, Oliver Kolb\, Norbert Henss und Adrian Fischer. \nAußerdem ist er als Solist bei verschiedenen Musikfestivals\, u. a. dem Neckar-Musikfestival mit Auftritten in Heidelberg\, Paris und Frankfurt am Main\, den Darmstädter Tagen der Neuen Musik in Darmstadt oder dem Eppsteiner Musikfestival\, wo er mit großem Erfolg neben so renommierten Künstlern wie Evgenia Rubinova oder Wolfgang Manz aufgetreten ist. Seine Interpretation von Werken wie den Fantasiestücken von Niels Gade oder der Sonate von Francis Poulenc finden Anerkennung sowohl bei Kritikern als auch dem Publikum. \nSein Interesse gilt auch Lesungen mit Musik. So hat er in einer Produktion über das literarische Kunstwerk Julian Tuwims mitgewirkt\, organisiert durch das Deutsche Polen-Institut in Darmstadt. \nErwin Thomczyk verfolgt auch eine intensive pädagogische Tätigkeit an der Akademie für Tonkunst in Darmstadt\, an welche er gleich nach dem Studienabschluss als Dozent berufen wurde. Als Lehrer vermag er seine große Erfahrung mit der Vielfalt der Klarinettenmusik zu vermitteln und freut sich stets darüber\, seine Liebe zur Musik mit eifrigen Schülern zu teilen. \nErwin Thomczyk konzertiert auf einer Klarinette von Herbert Wurlitzer aus dem Jahr 1978\, die bei den Berliner Philharmonikern zu Zeiten von Herbert v. Karajan gespielt wurde.
URL:https://theaterfoyer-darmstadt.de/aktion/kammerkonzert-clarinet-piano-duo/
LOCATION:Staatstheater Darmstadt\, Georg-Büchner-Platz 1\, Darmstadt\, Hessen\, 64283\, Deutschland
CATEGORIES:Kammerkonzert
END:VEVENT
BEGIN:VEVENT
DTSTART;TZID=UTC:20260218T160000
DTEND;TZID=UTC:20260218T173000
DTSTAMP:20260421T133132
CREATED:20260115T181741Z
LAST-MODIFIED:20260115T181741Z
UID:1475-1771430400-1771435800@theaterfoyer-darmstadt.de
SUMMARY:Musikalischer Nachmittag
DESCRIPTION:Gestaltet von Mitgliedern des Staatstheaters Darmstadt & Stipendiaten der Da Ponte-Stiftung.
URL:https://theaterfoyer-darmstadt.de/aktion/musikalischer-nachmittag-februar-2026/
LOCATION:Staatstheater Darmstadt\, Georg-Büchner-Platz 1\, Darmstadt\, Hessen\, 64283\, Deutschland
CATEGORIES:Musikalischer Nachmittag
END:VEVENT
END:VCALENDAR