BEGIN:VCALENDAR
VERSION:2.0
PRODID:-//Aktion Theaterfoyer e.V. - ECPv6.15.20//NONSGML v1.0//EN
CALSCALE:GREGORIAN
METHOD:PUBLISH
X-ORIGINAL-URL:https://theaterfoyer-darmstadt.de
X-WR-CALDESC:Veranstaltungen für Aktion Theaterfoyer e.V.
REFRESH-INTERVAL;VALUE=DURATION:PT1H
X-Robots-Tag:noindex
X-PUBLISHED-TTL:PT1H
BEGIN:VTIMEZONE
TZID:UTC
BEGIN:STANDARD
TZOFFSETFROM:+0000
TZOFFSETTO:+0000
TZNAME:UTC
DTSTART:20250101T000000
END:STANDARD
END:VTIMEZONE
BEGIN:VEVENT
DTSTART;TZID=UTC:20260301T110000
DTEND;TZID=UTC:20260301T130000
DTSTAMP:20260421T115331
CREATED:20260208T112256Z
LAST-MODIFIED:20260208T113958Z
UID:1481-1772362800-1772370000@theaterfoyer-darmstadt.de
SUMMARY:Frühschoppen – Rockin' Times
DESCRIPTION:Rockin‘ Times – we keep you rockin‘! \nSieben Vollblutmusiker mit zwei starken Stimmen\, geballte Power: Rockin‘ Times steht für Rock-Cover mit Herz und Energie. Ob Bon Jovi\, Bryan Adams\, Tina Turner\, Toto oder Robbie Williams – die Band aus dem Rhein-Main-Gebiet bringt die großen Hits der Rock- und Popgeschichte mit Leidenschaft und Spielfreude auf die Bühne. Die Songs orientieren sich nah am Original – aber immer gespickt mit einer rockig-würzigen Note. \nDabei überzeugt Rockin‘ Times nicht nur musikalisch auf hohem Niveau. Die jahrelange Erfahrung der Musiker spiegelt sich in einer mitreißenden Performance und einem anspruchsvollen Licht- und Tonkonzept wider. Mit einer Besetzung aus männlichem und weiblichem Gesang\, zwei Gitarren\, Keyboard\, Bass und Schlagzeug sorgt die Band für eine mitreißende Atmosphäre. Der charismatische Sänger und die dynamische Frontfrau ziehen das Publikum in ihren Bann und sorgen für eine unvergessliche Show. \nLocker\, authentisch und nah am Publikum: Rockin‘ Times verwandelt jedes Event in ein Konzerterlebnis voller Emotionen\, Energie und unvergesslicher Momente.
URL:https://theaterfoyer-darmstadt.de/aktion/fruehschoppen-rockin-times/
LOCATION:Staatstheater Darmstadt\, Georg-Büchner-Platz 1\, Darmstadt\, Hessen\, 64283\, Deutschland
CATEGORIES:Frühschoppen
ATTACH;FMTTYPE=image/jpeg:https://theaterfoyer-darmstadt.de/wp-content/uploads/2026/02/RockinTimes_Gruppe_col_251210.jpg
END:VEVENT
BEGIN:VEVENT
DTSTART;TZID=UTC:20260307T153000
DTEND;TZID=UTC:20260307T173000
DTSTAMP:20260421T115331
CREATED:20260217T203907Z
LAST-MODIFIED:20260217T204553Z
UID:1490-1772897400-1772904600@theaterfoyer-darmstadt.de
SUMMARY:Kammerkonzert – Rosa Franziska Maier
DESCRIPTION:Rosa Franziska Maier\,\nKlassische Gitarrenmusik\nReverie\nIn ihrem Konzertprogramm Reverie (Träumerei) präsentiert die österreichische Künstlerin Rosa Franziska Maier ein abwechslungsreiches Programm aus verschiedensten Bereichen des klassischen Gitarrenrepertoires. So erklingen Werke aus der englischen Renaissancemusik von John Dowland\, der Romantik des 19. Jahrhunderts mit dem Komponisten Giulio Regondi\, bis hin zu einer Fülle an Stilen aus dem 20. Jahrhundert. Das Ensemble von Originalkompositionen für die klassische Gitarre wird durch einige Transkriptionen zu einem farbenreichen Potpourri ergänzt. \n\n\nJ. Dowland (1563-1626):\nA Fancy\, P5\n(Bearb. E. Thorlaksson) \n\nI. Albéniz (1860-1909):\nEspaña op. 165\nV. Capricho Catalán\n(Bearb. M. Lorimer)\nVI. Zortzico\n(Bearb. S. Yates) \n\nA. Barrios Mangoré (1885-1944):\nUn Sueño en la Floresta \n\nR. R. Bennett (1936-2012):\nImpromptus\nI. Recitativo\nII. Agitato\nIII. Elegiaco\nIV. Con fuoco\nV. Arioso \n\nG. Regondi (1822-1872):\nNocturne – Rêverie\, op. 19 \n\nM. Castelnuovo-Tedesco (1895-1968):\nAppunti op. 210\nNo. I/VII\n \n\nW. Walton (1902-1983):\nFive Bagatelles\nAllegro\nLento\nAlla cubana\n(Senza indicazione di tempo)\nCon slancio\n \n\nF. Sor (1778-1839):\nIntroduction & Variations\non a Theme by W.A. Mozart\,op. 9\n\n\nBiographie\nRosa Franziska Maier ist eine österreichische Musikerin\, sie wurde 1997 geboren und wuchs in Graz auf. Regelmäßig konzertiert sie als Solistin\, aber auch in verschiedenen Kammermusik-Besetzungen\, wobei ihr kammermusikalische und interdisziplinäre Projekte besonders am Herzen liegen. Im Juli 2025 wurde ihr Solo-Album Scenes of a Reverie bei dem renommierten deutschen Label GENUIN veröffentlicht. \nAls Preisträgerin zahlreicher Stipendien und Wettbewerbe\, gewann sie ihren ersten internationalen Wettbewerb im Alter von 11 Jahren (Brno CZ; 2008). Bei dem österreichischen Jugendwettbewerb Prima la musica wurde sie insgesamt acht Mal mit dem ersten Preis ausgezeichnet. Nachdem sie beim Internationalen Gitarrefestival Rust einen ersten Preis erhielt\, nahm records.v4m (Wien) ihre erste CD un.sueno.en.la.floresta auf\, die 2011 veröffentlicht wurde. Darauf folgten neben Wettbewerbserfolgen auch Förderstipendien der Stadt Graz\, des Internationalen Gitarrenfestivals LIGITA u.a. Kürzlich erhielt sie den 2. Preis beim Concorso Internazionale chitarristico di Firenze 2024 (IT) und dem Internationalen Gitarrenfestival Tübingen 2024 (D) sowie mit dem Duo.Echo.Flava (Violoncello – Gitarre) den 3. Preis beim Concurso International de Guitarra Cidade de Lagoa – Zé Gregório 2025. \nIhren ersten Solo-Konzertabend gab die österreichische Gitarristin im Alter von 11 Jahren im Musiksalon Erfurt in Graz (AT). 2012 hatte sie ihr Debut als Solistin mit Orchester im Mumuth der Kunstuniversität Graz. Sie spielte als Solistin im Goldenen Saal des Wiener Musikvereins. Seit 2022 organisiert sie außerdem an verschiedenen Orten in Österreich die Konzertreihe Saitenansichten. Außerhalb Österreichs führten sie ihre Konzertauftritte nach Italien\, Tschechien\, Liechtenstein\, Bulgarien\, Albanien\, Türkei\, Deutschland und Griechenland. \nIm Alter von drei Jahren bekam Rosa Franziska Maier ihren ersten Musikunterricht und begann ein Jahr später bei Elisabeth Irmler am Johann-Joseph-Fux-Konservatorium Graz Gitarre zu lernen. 2012 wurde sie an der Kunstuniversität Graz in die Klasse von dem renommierten italienischen Pädagogen Paolo Pegoraro aufgenommen. 2023 schloss Rosa Franziska Maier ihr Studium an der Universität für Musik und darstellende Kunst Wien bei dem berühmten aus Uruguay stammenden Gitarristen Álvaro Pierri mit Auszeichnung ab. In Form eines postgradualen künstlerischen Aufbaustudiums setzt sie seit Oktober 2025 ihr Studium bei dem namhaften Gitarristen und Musikwissenschafter Tilman Hoppstock an der Akademie für Tonkunst Darmstadt (Deutschland) fort. Wichtige musikalische Impulse gaben und geben ihr außerdem der italienische Lautenist und Gitarrist Luciano Contini\, der österreichische Gitarrist Armin Egger\, die renommierte Geigenpädagogin Regina Brandstätter\, der Pianist Johannes Kutrowatz und die polnische Dirigentin Marta Gardolińska. \nNeben ihrem Beruf als Musikerin interessiert sich die österreichische Gitarristin besonders für Philosophie\, Literatur und Kunst\, derzeit ins Besondere für die Werke Arthur Schnitzlers\, Paul Celans\, Simone de Beauvoirs und Wasilli Kandinskys – was stets auch ihr eigenes künstlerisches Arbeiten beeinflusst. \nZusätzlich zu ihrem künstlerischen Berufsweg ist Rosa Franziska Maier auch als Pädagogin tätig und durfte über die Jahre schon an verschiedenen Instituten ihrer Lehrtätigkeit nachgehen. So zum Beispiel an der Musikschule Wien\, am VIMAC – Vienna International Music & Art Center\, an der Jehuda Halevi Musikschule Wien und bei verschiedenen Masterclasses. \n 
URL:https://theaterfoyer-darmstadt.de/aktion/kammerkonzert-rosa-franziska-maier/
LOCATION:Staatstheater Darmstadt\, Georg-Büchner-Platz 1\, Darmstadt\, Hessen\, 64283\, Deutschland
CATEGORIES:Kammerkonzert
ATTACH;FMTTYPE=image/jpeg:https://theaterfoyer-darmstadt.de/wp-content/uploads/2026/02/Rosa-Franziska-Maier-2-crop.jpg
END:VEVENT
BEGIN:VEVENT
DTSTART;TZID=UTC:20260309T200000
DTEND;TZID=UTC:20260309T220000
DTSTAMP:20260421T115331
CREATED:20260220T105815Z
LAST-MODIFIED:20260220T105815Z
UID:1499-1773086400-1773093600@theaterfoyer-darmstadt.de
SUMMARY:Cinemafoyer
DESCRIPTION:Zu sehen sind ausgewählte alte und ältere Kinofilme und natürlich Kultfilme.
URL:https://theaterfoyer-darmstadt.de/aktion/cinemafoyer-2026-03-09/
LOCATION:Staatstheater Darmstadt\, Georg-Büchner-Platz 1\, Darmstadt\, Hessen\, 64283\, Deutschland
CATEGORIES:Cinemafoyer
END:VEVENT
BEGIN:VEVENT
DTSTART;TZID=UTC:20260325T160000
DTEND;TZID=UTC:20260325T180000
DTSTAMP:20260421T115331
CREATED:20260220T110145Z
LAST-MODIFIED:20260220T110145Z
UID:1501-1774454400-1774461600@theaterfoyer-darmstadt.de
SUMMARY:Musikalischer Nachmittag
DESCRIPTION:Sängerinnen und Sänger aus dem Ensemble des Staatstheaters stellen Ausschnitte aus der laufenden Produktion vor.
URL:https://theaterfoyer-darmstadt.de/aktion/musikalischer-nachmittag-2026-03-25/
LOCATION:Staatstheater Darmstadt\, Georg-Büchner-Platz 1\, Darmstadt\, Hessen\, 64283\, Deutschland
CATEGORIES:Musikalischer Nachmittag
END:VEVENT
END:VCALENDAR