BEGIN:VCALENDAR
VERSION:2.0
PRODID:-//Aktion Theaterfoyer e.V. - ECPv6.15.20//NONSGML v1.0//EN
CALSCALE:GREGORIAN
METHOD:PUBLISH
X-WR-CALNAME:Aktion Theaterfoyer e.V.
X-ORIGINAL-URL:https://theaterfoyer-darmstadt.de
X-WR-CALDESC:Veranstaltungen für Aktion Theaterfoyer e.V.
REFRESH-INTERVAL;VALUE=DURATION:PT1H
X-Robots-Tag:noindex
X-PUBLISHED-TTL:PT1H
BEGIN:VTIMEZONE
TZID:UTC
BEGIN:STANDARD
TZOFFSETFROM:+0000
TZOFFSETTO:+0000
TZNAME:UTC
DTSTART:20250101T000000
END:STANDARD
END:VTIMEZONE
BEGIN:VEVENT
DTSTART;VALUE=DATE:20260501
DTEND;VALUE=DATE:20260502
DTSTAMP:20260421T120548
CREATED:20260420T172347Z
LAST-MODIFIED:20260420T172348Z
UID:1532-1777593600-1777679999@theaterfoyer-darmstadt.de
SUMMARY:Musikalischer Nachmittag im Mai – fällt aus
DESCRIPTION:
URL:https://theaterfoyer-darmstadt.de/aktion/musikalischer-nachmittag-im-mai-faellt-aus/
LOCATION:Hessen
CATEGORIES:Musikalischer Nachmittag
END:VEVENT
BEGIN:VEVENT
DTSTART;VALUE=DATE:20260501
DTEND;VALUE=DATE:20260502
DTSTAMP:20260421T120548
CREATED:20260420T173637Z
LAST-MODIFIED:20260420T173753Z
UID:1536-1777593600-1777679999@theaterfoyer-darmstadt.de
SUMMARY:Cinemafoyer im Mai – fällt aus
DESCRIPTION:
URL:https://theaterfoyer-darmstadt.de/aktion/cinemafoyer-im-mai-faellt-aus/
LOCATION:Hessen
CATEGORIES:Cinemafoyer
END:VEVENT
BEGIN:VEVENT
DTSTART;TZID=UTC:20260503T110000
DTEND;TZID=UTC:20260503T130000
DTSTAMP:20260421T120548
CREATED:20260420T165354Z
LAST-MODIFIED:20260420T170823Z
UID:1523-1777806000-1777813200@theaterfoyer-darmstadt.de
SUMMARY:Frühschoppen – Les Sound & Friends
DESCRIPTION:Les Sound & Friends aus Darmstadt ist eine vielseitige Live-Band\, welche seit einigen Jahren besteht und mit musikalischer Qualität und spürbarer Spielfreude überzeugt. Das Repertoire umfasst bekannte Rock-\, Pop-\, Funk- und Blues-Klassiker aus mehreren Jahrzehnten\, die stilvoll interpretiert und mit eigener Note präsentiert werden.\nDie Band steht für ein abwechslungsreiches und professionelles Live-Programm\, das mit den Sängerinnen Bella und Carmen sowohl zum aufmerksamen Zuhören einlädt\, als auch zum Tanzen und Mitfeiern. Dank ihrer flexiblen Besetzung und ihres breiten musikalischen Spektrums eignet sich Les Sound & Friends bestens für öffentliche Veranstaltungen\, Firmenfeiern\, Stadtfeste und private Anlässe.\nMit authentischem Sound\, routiniertem Zusammenspiel und einem sicheren Gespür für Publikum und Anlass sorgt Les Sound & Friends stets für ein hochwertiges und stimmungsvolles Musikerlebnis.
URL:https://theaterfoyer-darmstadt.de/aktion/fruehschoppen-les-sound-friends/
LOCATION:Staatstheater Darmstadt\, Georg-Büchner-Platz 1\, Darmstadt\, Hessen\, 64283\, Deutschland
CATEGORIES:Frühschoppen
ATTACH;FMTTYPE=image/jpeg:https://theaterfoyer-darmstadt.de/wp-content/uploads/2026/04/les-sound-and-friends.jpg
END:VEVENT
BEGIN:VEVENT
DTSTART;TZID=UTC:20260530T153000
DTEND;TZID=UTC:20260530T173000
DTSTAMP:20260421T120548
CREATED:20260420T180207Z
LAST-MODIFIED:20260420T180207Z
UID:1545-1780155000-1780162200@theaterfoyer-darmstadt.de
SUMMARY:Kammerkonzert – Countertenor mit Klavierbegleitung
DESCRIPTION:Programm\nEin neues Lied will ich dir singen\nGeistliche Gesänge der Romantik u.a.\nOliver May\, Countertenor\nGiuliano Mameli\, Klavier\n\nV. Vavilov: Ave Maria\nJ. J. Rheinberger: Missa puerorum op. 62\nC. Franck: Panis Angelicus\nW.A. Mozart: Ave verum\nA. Dvořák: Psalmenlieder op. 99\n\nOliver May\n \nDer in Köln geborene Countertenor Oliver May studierte Gesang\, Viola und\nKlavier mit den Abschlüssen des Staatlichen Musiklehrerexamens und der\nkünstlerischen Reifeprüfung.\nEr besuchte Fortbildungen und Meisterkurse u.a. bei Paul Esswood\n(Barockgesang) an der internationalen Händel-Akademie Karlsruhe\, Prof. Eugen\nRabine (Funktionales Stimmtraining) und war Semifinalist beim internationalen\nBelvedere-Wettbewerb in Wien.\nGastverträge und Bühnenengagements führten ihn ans Badische Staatstheater\nKarlsruhe\, Theater Trier\, Theater Görlitz sowie zu verschiedenen Festivals\, u.a.\nSchlossfestspiele Heidelberg und Zwingenberg. Wichtige Partien seines\nStimmfachs sind u.a. Ruggiero (Alcina)\, Medoro (Orlando) Narciso (Agrippina)\,\nOrlofsky (Fledermaus).\nIm Konzertbereich zeigt sich seine Präsenz als Solist in geistlichen und\nweltlichen Werken vom Barock bis zur Moderne\, darunter die Oratorien von\nVivaldi\, Händel\, Bach\, Haydn\, Rossini\, Mozart\, Bernstein\, sowie mit\nKammermusikensembles unterschiedlichster Besetzung.\nIn Liederabenden und Recitals bewegt sich das Repertoire auch in für\nCountertenöre ungewohnte Richtungen wie Schubert\, Dvorak\, Mahler und\nRichard Strauss.\nKonzerte und Auftritte im deutschsprachigen Raum sowie in Skandinavien\,\nItalien\, USA\, u.a. Deutsche Staatsphilharmonie Rheinland-Pfalz\, Staatstheater\nDarmstadt\, Eismeerkathedrale Tromsoe.\nHerr May sang unter Dirigenten wie Paul Goodwin\, Marius Stieghorst\, Guido\nJohannes Rumstadt\, Franz Brochhagen und musizierte unter anderem mit\nOrchestern wie den Deutschen Händel-Solisten\, dem Heidelberger\nKammerorchester\, der Deutschen Philharmonie Merck\, L‘Arpa Festante und der\nNeuen Lausitzer Philharmonie.\nCD-Einspielungen sowie Aufnahmen für Fernsehen und Rundfunk\ndokumentieren sein musikalisches Wirken.\nSeit 2004 arbeitet Oliver May als Dozent für Gesang an der Hochschule für\nMusik in Mainz. \nGiuliano Mameli\n \nGiuliano Mameli wurde 1968 im italienischen Genua geboren\, wo er auch seine grundlegende musikalische Ausbildung absolvierte und 1991 das Klavier- sowie 1998 das Orgeldiplom erlangte. Sein weiterer Weg führte ihn nach Deutschland an die Musikhochschule Trossingen im Schwarzwald. Dort schloss er 2002 ein künstlerisches Aufbaustudium im Fach Orgel bei Christoph Bossert ab\, gefolgt vom B-Kirchenmusikstudium im Jahr 2003. \nSeine akademische Qualifikation vervollständigte Mameli 2010 mit dem A-Examen für Kirchenmusik an der Hochschule für Musik der Universität Mainz. Hierbei setzte er Schwerpunkte in der Orgelimprovisation bei Prof. Hans-Jürgen Kaiser sowie in der Chor- und Orchesterleitung bei Prof. Ralf Otto. \nErgänzend zu seiner akademischen Laufbahn vertiefte er seine künstlerischen Fertigkeiten in zahlreichen Klavier- und Orgelkursen in Italien\, der Schweiz und Deutschland\, unter anderem bei namhaften Dozenten wie Paul Badura-Skoda\, Michael Radulescu\, Jürgen Essl\, Wolfgang Zerer\, Louis Robilliard und Daniel Roth. Diese breite Ausbildung spiegelt sich in seiner regelmäßigen Konzerttätigkeit an beiden Instrumenten wider. \nNachdem Mameli von April 2004 bis April 2024 zwanzig Jahre lang als Dekanatskantor im evangelischen Dekanat Ingelheim-Oppenheim tätig war\, wechselte er zum Januar 2024 in gleicher Funktion in das evangelische Dekanat Worms-Wonnegau. \n 
URL:https://theaterfoyer-darmstadt.de/aktion/kammerkonzert-countertenor-mit-klavierbegleitung/
LOCATION:Staatstheater Darmstadt\, Georg-Büchner-Platz 1\, Darmstadt\, Hessen\, 64283\, Deutschland
CATEGORIES:Kammerkonzert
END:VEVENT
END:VCALENDAR